BEGIN:VCALENDAR
VERSION:2.0
PRODID:-//144.208.68.69//NONSGML kigkonsult.se iCalcreator 2.20//
CALSCALE:GREGORIAN
METHOD:PUBLISH
X-FROM-URL:http://www.family-constellations.co.nz
X-WR-TIMEZONE:Pacific/Auckland
BEGIN:VTIMEZONE
TZID:Pacific/Auckland
X-LIC-LOCATION:Pacific/Auckland
BEGIN:STANDARD
DTSTART:20180401T030000
TZOFFSETFROM:+1300
TZOFFSETTO:+1200
TZNAME:NZST
END:STANDARD
BEGIN:DAYLIGHT
DTSTART:20170924T020000
TZOFFSETFROM:+1200
TZOFFSETTO:+1300
TZNAME:NZDT
END:DAYLIGHT
END:VTIMEZONE
BEGIN:VEVENT
UID:ai1ec-132@family-constellations.webcraftclients.co.nz
DTSTAMP:20180124T045153Z
CATEGORIES:
CONTACT:David\; +64212657587\; info@webcraft.co.nz\; webcraft.co.nz
DESCRIPTION:<p>For Trauma Education Seminar (Weekend-2days) information\, p
 lease click ….</p>
DTSTART;VALUE=DATE:20160423
DTEND;VALUE=DATE:20160425
GEO:-36.835963;+174.631886
LOCATION:My house @ 112A Colwill Rd\, Massey\, Auckland 0614\, New Zealand
SEQUENCE:0
SUMMARY:Trauma Education Seminar (Weekend-2days)
URL:http://www.family-constellations.co.nz/event/weekend-event/
X-COST-TYPE:free
X-COST:$500
END:VEVENT
BEGIN:VEVENT
UID:ai1ec-124@family-constellations.webcraftclients.co.nz
DTSTAMP:20180124T045153Z
CATEGORIES:
CONTACT:Angelika Chisholm\; 09 817 7131\; angelika.chisholm@gmail.com\; htt
 p://family-constellations.co.nz
DESCRIPTION:<p>Family Constellation – One Day Workshop more information…………
 ..</p>
DTSTART;TZID=Pacific/Auckland:20160507T093000
DTEND;TZID=Pacific/Auckland:20160507T170000
GEO:-36.858235;+174.730094
LOCATION:Mercy Spirituality Centre @ 104 The Drive\, Epsom\, Auckland
SEQUENCE:0
SUMMARY:Family Constellation – One Day Workshop
URL:http://www.family-constellations.co.nz/event/family-constellation-one-d
 ay-workshop/
X-COST-TYPE:free
X-COST:$130 / $110 Early Bird
END:VEVENT
BEGIN:VEVENT
UID:ai1ec-169@family-constellations.webcraftclients.co.nz
DTSTAMP:20180124T045153Z
CATEGORIES:
CONTACT:Angelika Chisholm\; 09 817 7131\; angelika.chisholm@gmail.com
DESCRIPTION:
DTSTART;TZID=Pacific/Auckland:20160625T093000
DTEND;TZID=Pacific/Auckland:20160625T170000
GEO:-36.858235;+174.730094
LOCATION:Auckland Buddhist Centre @ 381 Richmond Rd\, Grey Lynn\, Auckland 
 1021\, New Zealand
SEQUENCE:0
SUMMARY:Family Constellation – One Day Workshop
URL:http://www.family-constellations.co.nz/event/family-constellation-one-d
 ay-workshop-3/
X-COST-TYPE:free
X-COST:$130 / $110 Early Bird (10 days or more before the event)
END:VEVENT
BEGIN:VEVENT
UID:ai1ec-321@family-constellations.webcraftclients.co.nz
DTSTAMP:20180124T045153Z
CATEGORIES:
CONTACT:Angelika Chisholm\; 09 817 7131 / 027 630 9600\; angelika.chisholm@
 gmail.com
DESCRIPTION:
DTSTART;TZID=Pacific/Auckland:20160709T093000
DTEND;TZID=Pacific/Auckland:20160709T170000
GEO:-36.858235;+174.730094
LOCATION:Auckland Buddhist Centre @ 381 Richmond Rd\, Grey Lynn\, Auckland 
 1021\, New Zealand
SEQUENCE:0
SUMMARY:Family Constellation – One Day Workshop
URL:http://www.family-constellations.co.nz/event/family-constellation-one-d
 ay-workshop-5/
X-COST-TYPE:free
X-COST:$130 / $110 Early Bird (10 days or more before the event)
END:VEVENT
BEGIN:VEVENT
UID:ai1ec-323@family-constellations.webcraftclients.co.nz
DTSTAMP:20180124T045153Z
CATEGORIES:
CONTACT:Angelika Chisholm\; 09 817 7131 / 027 630 9600\; angelika.chisholm@
 gmail.com
DESCRIPTION:
DTSTART;TZID=Pacific/Auckland:20160910T093000
DTEND;TZID=Pacific/Auckland:20160910T170000
GEO:-36.858235;+174.730094
LOCATION:Auckland Buddhist Centre @ 381 Richmond Rd\, Grey Lynn\, Auckland 
 1021\, New Zealand
SEQUENCE:0
SUMMARY:Family Constellation – One Day Workshop
URL:http://www.family-constellations.co.nz/event/family-constellation-one-d
 ay-workshop-4/
X-COST-TYPE:free
X-COST:$130 / $110 Early Bird (10 days or more before the event)
END:VEVENT
BEGIN:VEVENT
UID:ai1ec-413@www.family-constellations.co.nz
DTSTAMP:20180124T045153Z
CATEGORIES:
CONTACT:Angelika Chisholm\; 09 817 7131 / 027 630 9600\; angelika.chisholm@
 gmail.com
DESCRIPTION:
DTSTART;TZID=Pacific/Auckland:20161105T093000
DTEND;TZID=Pacific/Auckland:20161105T170000
GEO:-36.858235;+174.730094
LOCATION:Auckland Buddhist Centre @ 381 Richmond Rd Grey Lynn\, Auckland 10
 21 New Zealand
SEQUENCE:0
SUMMARY:Family Constellation – One Day Workshop
URL:http://www.family-constellations.co.nz/event/family-constellation-one-d
 ay-workshop-2-2-2/
X-COST-TYPE:free
X-COST:$130 / $110 Early Bird (10 days or more before the event)
END:VEVENT
BEGIN:VEVENT
UID:ai1ec-415@www.family-constellations.co.nz
DTSTAMP:20180124T045153Z
CATEGORIES:
CONTACT:Angelika Chisholm\; 09 817 7131 / 027 630 9600\; angelika.chisholm@
 gmail.com
DESCRIPTION:
DTSTART;TZID=Pacific/Auckland:20170319T093000
DTEND;TZID=Pacific/Auckland:20170319T170000
GEO:-36.897168;+174.769783
LOCATION:Mercy Spirituality Centre @ 104 The Drive\, Epsom\, Auckland
SEQUENCE:0
SUMMARY:Family Constellation – One Day Workshop
URL:http://www.family-constellations.co.nz/event/family-constellation-one-d
 ay-workshop-2-2-3/
X-COST-TYPE:free
X-COST:$130 / $110 Early Bird (10 days or more before the event)
END:VEVENT
BEGIN:VEVENT
UID:ai1ec-409@www.family-constellations.co.nz
DTSTAMP:20180124T045153Z
CATEGORIES:
CONTACT:Angelika Chisholm\; 09 817 7131 / 027 630 9600\; angelika.chisholm@
 gmail.com
DESCRIPTION:<p><strong>Fri</strong> 6:30pm-9:30pm <strong>Sat</strong> 9:30
 am-5:00pm <strong>Sun</strong> 9:30am-2:00pm</p>\n<p>To see the venue and 
 book accommodation visit this site: <a href='http://www.stoneterrace.co.nz
 /'>http://www.stoneterrace.co.nz/</a></p>
DTSTART;TZID=Pacific/Auckland:20170505T183000
DTEND;TZID=Pacific/Auckland:20170507T140000
GEO:-36.890984;+175.826586
LOCATION:Stone Terrace Villa Estate @ 44 Radar Road\, RD1\, Hot Water Beach
 \, Whitianga
SEQUENCE:0
SUMMARY:Family Constellation -Weekend Workshop
URL:http://www.family-constellations.co.nz/event/family-constellation-one-d
 ay-workshop-2-2/
X-COST-TYPE:free
X-COST:$295 (for workshop only)
END:VEVENT
BEGIN:VEVENT
UID:ai1ec-425@www.family-constellations.co.nz
DTSTAMP:20180124T045153Z
CATEGORIES:
CONTACT:Angelika Chisholm\; 09 817 7131 / 027 630 9600\; angelika.chisholm@
 gmail.com
DESCRIPTION:
DTSTART;TZID=Pacific/Auckland:20170617T093000
DTEND;TZID=Pacific/Auckland:20170617T170000
GEO:-36.897168;+174.769783
LOCATION:Mercy Spirituality Centre @ 104 The Drive\, Epsom\, Auckland
SEQUENCE:0
SUMMARY:Family Constellation – One Day Workshop
URL:http://www.family-constellations.co.nz/event/family-constellation-one-d
 ay-workshop-2-2-3-3/
X-COST-TYPE:free
X-COST:$130 / $110 Early Bird (10 days or more before the event)
END:VEVENT
BEGIN:VEVENT
UID:ai1ec-478@www.family-constellations.co.nz
DTSTAMP:20180124T045153Z
CATEGORIES:
CONTACT:Angelika Chisholm\; 09 817 7131 / 027 630 9600\; angelika.chisholm@
 gmail.com
DESCRIPTION:
DTSTART;TZID=Pacific/Auckland:20180303T093000
DTEND;TZID=Pacific/Auckland:20180303T170000
GEO:-36.897168;+174.769783
LOCATION:Mercy Spirituality Centre @ 104 The Drive\, Epsom\, Auckland
SEQUENCE:0
SUMMARY:Family Constellation – One Day Workshop
URL:http://www.family-constellations.co.nz/event/family-constellation-one-d
 ay-workshop-3-mar/
X-COST-TYPE:free
X-COST:$130 / $110 Early Bird (8 days or more before the event)
END:VEVENT
BEGIN:VEVENT
UID:ai1ec-493@www.family-constellations.co.nz
DTSTAMP:20180124T045153Z
CATEGORIES:
CONTACT:Angelika Chisholm\; 09 817 7131 / 027 630 9600\; angelika.chisholm@
 gmail.com
DESCRIPTION:
DTSTART;TZID=Pacific/Auckland:20180512T093000
DTEND;TZID=Pacific/Auckland:20180512T170000
GEO:-36.897168;+174.769783
LOCATION:Mercy Spirituality Centre @ 104 The Drive\, Epsom\, Auckland
SEQUENCE:0
SUMMARY:Family Constellation – One Day Workshop
URL:http://www.family-constellations.co.nz/event/family-constellation-one-d
 ay-workshop-12-may/
X-COST-TYPE:free
X-COST:$130 / $110 Early Bird (8 days or more before the event)
END:VEVENT
BEGIN:VEVENT
UID:ai1ec-492@www.family-constellations.co.nz
DTSTAMP:20180124T045153Z
CATEGORIES:
CONTACT:Angelika Chisholm\; 09 817 7131 / 027 630 9600\; angelika.chisholm@
 gmail.com
DESCRIPTION:
DTSTART;TZID=Pacific/Auckland:20180623T093000
DTEND;TZID=Pacific/Auckland:20180623T170000
GEO:-36.897168;+174.769783
LOCATION:Mercy Spirituality Centre @ 104 The Drive\, Epsom\, Auckland
SEQUENCE:0
SUMMARY:Family Constellation – One Day Workshop
URL:http://www.family-constellations.co.nz/event/family-constellation-one-d
 ay-workshop-23-june/
X-COST-TYPE:free
X-COST:$130 / $110 Early Bird (8 days or more before the event)
END:VEVENT
BEGIN:VEVENT
UID:ai1ec-491@www.family-constellations.co.nz
DTSTAMP:20180124T045153Z
CATEGORIES:
CONTACT:Angelika Chisholm\; 09 817 7131 / 027 630 9600\; angelika.chisholm@
 gmail.com
DESCRIPTION:
DTSTART;TZID=Pacific/Auckland:20180811T093000
DTEND;TZID=Pacific/Auckland:20180811T170000
GEO:-36.897168;+174.769783
LOCATION:Mercy Spirituality Centre @ 104 The Drive\, Epsom\, Auckland
SEQUENCE:0
SUMMARY:Family Constellation – One Day Workshop
URL:http://www.family-constellations.co.nz/event/family-constellation-one-d
 ay-workshop-11-august/
X-COST-TYPE:free
X-COST:$130 / $110 Early Bird (8 days or more before the event)
END:VEVENT
BEGIN:VEVENT
UID:ai1ec-431@www.family-constellations.co.nz
DTSTAMP:20180124T045153Z
CATEGORIES:
CONTACT:Angelika Chisholm\; 09 817 7131 / 027 630 9600\; angelika.chisholm@
 gmail.com
DESCRIPTION:
DTSTART;TZID=Pacific/Auckland:20181027T093000
DTEND;TZID=Pacific/Auckland:20181027T170000
GEO:-36.897168;+174.769783
LOCATION:Mercy Spirituality Centre @ 104 The Drive\, Epsom\, Auckland
SEQUENCE:0
SUMMARY:Family Constellation – One Day Workshop
URL:http://www.family-constellations.co.nz/event/family-constellation-one-d
 ay-workshop-27-octber/
X-COST-TYPE:free
X-COST:$130 / $110 Early Bird (8 days or more before the event)
END:VEVENT
END:VCALENDAR
